BEGIN:VCALENDAR
VERSION:2.0
PRODID:-//JFCS of SNJ - ECPv6.0.3.1//NONSGML v1.0//EN
CALSCALE:GREGORIAN
METHOD:PUBLISH
X-WR-CALNAME:JFCS of SNJ
X-ORIGINAL-URL:http://s631138447.onlinehome.us
X-WR-CALDESC:Events for JFCS of SNJ
REFRESH-INTERVAL;VALUE=DURATION:PT1H
X-Robots-Tag:noindex
X-PUBLISHED-TTL:PT1H
BEGIN:VTIMEZONE
TZID:America/New_York
BEGIN:DAYLIGHT
TZOFFSETFROM:-0500
TZOFFSETTO:-0400
TZNAME:EDT
DTSTART:20230312T070000
END:DAYLIGHT
BEGIN:STANDARD
TZOFFSETFROM:-0400
TZOFFSETTO:-0500
TZNAME:EST
DTSTART:20231105T060000
END:STANDARD
END:VTIMEZONE
BEGIN:VEVENT
DTSTART;VALUE=DATE:20230130
DTEND;VALUE=DATE:20230214
DTSTAMP:20260419T113721
CREATED:20230130T172828Z
LAST-MODIFIED:20230202T015512Z
UID:19613-1675036800-1676332799@s631138447.onlinehome.us
SUMMARY:Souper Bowl of Caring
DESCRIPTION:Our beloved Eagles are headed to the Super Bowl on February 12! While millions of Philly sports fans are getting hyped for the big game\, we must also be mindful that countless South Jersey families are struggling to put food on the table. The new JFCS “Souper Bowl” initiative aims to ensure that our neighbors in need can enjoy healthful\, hot meals throughout the cold winter months. \nWe encourage community members to donate hearty and nutritious soups through Monday\, February 13. (Kosher soups are preferred\, but we will gladly accept all donations. Cans and boxes with pop-tops make for easy opening\, especially for individuals with limited access to can openers.) \nDROP OFF LOCATION:\nRhona Fisher Family Assistance Building / Betsy & Peter Fischer Food Pantry *\n6 East Miami Avenue\nCherry Hill\, NJ 08034 \n* There is a 24/7 collection container\, located outside the Feldman Carriage House at the rear of the parking lot.  \nQuestions? Contact Deena Neuwirth at (856) 477-1314. \n 
URL:http://s631138447.onlinehome.us/event/souper-bowl-of-caring/
LOCATION:Rhona Fischer Family Assistance Building\, 6 East Miami Avenue\, Cherry Hill\, 08034\, United States
CATEGORIES:Family Assistance
ORGANIZER;CN="Meri%20Seligman":MAILTO:mseligman@jfedsnj.org
GEO:39.9182218;-75.0050936
X-APPLE-STRUCTURED-LOCATION;VALUE=URI;X-ADDRESS=DESCRIPTION:Our beloved Eagles are headed to the Super Bowl on February 12! While millions of Philly sports fans are getting hyped for the big game we must also be mindful that countless South Jersey families are struggling to put food on the table. The new JFCS “Souper Bowl” initiative aims to ensure that our neighbors in need can enjoy healthful hot meals throughout the cold winter months. \nWe encourage community members to donate hearty and nutritious soups through Monday February 13. (Kosher soups are preferred but we will gladly accept all donations. Cans and boxes with pop-tops make for easy opening especially for individuals with limited access to can openers.) \nDROP OFF \nRhona Fisher Family Assistance Building / Betsy & Peter Fischer Food Pantry *\n6 East Miami Avenue\nCherry Hill NJ 08034 \n* There is a 24/7 collection container located outside the Feldman Carriage House at the rear of the parking lot.  \nQuestions? Contact Deena Neuwirth at (856) 477-1314. \n ;X-APPLE-RADIUS=500;X-TITLE=6 East Miami Avenue:geo:-75.0050936,39.9182218
END:VEVENT
BEGIN:VEVENT
DTSTART;TZID=America/New_York:20230215T190000
DTEND;TZID=America/New_York:20230215T203000
DTSTAMP:20260419T113721
CREATED:20221205T153857Z
LAST-MODIFIED:20230111T195453Z
UID:19435-1676487600-1676493000@s631138447.onlinehome.us
SUMMARY:Understanding the New Jersey Comprehensive Assessment Tool (NJCAT)
DESCRIPTION:This disability workshop will explore the New Jersey Comprehensive Assessment Tool (NJCAT). The NJCAT evaluates an individual’s need for support in three main areas: self-care\, behavioral\, and medical. The results also establish the individual’s tier\, which determines the annual budgets that will be available for services. \nAll Upcoming Workshops\n* Wednesday\, February 15: Understanding the New Jersey Comprehensive Assessment Tool (NJCAT)\n* Wednesday\, April 19: Wills\, Trusts\, and Guardianship\n* Thursday\, June 8: Navigating Benefits  \nRegister Now!
URL:http://s631138447.onlinehome.us/event/pathways-2/
LOCATION:Virtual Program
CATEGORIES:Disability Services
ORGANIZER;CN="JFCS%20Disability%20Services%20Committee":MAILTO:rovitz@jfedsnj.org
END:VEVENT
END:VCALENDAR