BEGIN:VCALENDAR
VERSION:2.0
PRODID:-//JFCS of SNJ - ECPv6.0.3.1//NONSGML v1.0//EN
CALSCALE:GREGORIAN
METHOD:PUBLISH
X-WR-CALNAME:JFCS of SNJ
X-ORIGINAL-URL:http://s631138447.onlinehome.us
X-WR-CALDESC:Events for JFCS of SNJ
REFRESH-INTERVAL;VALUE=DURATION:PT1H
X-Robots-Tag:noindex
X-PUBLISHED-TTL:PT1H
BEGIN:VTIMEZONE
TZID:America/New_York
BEGIN:DAYLIGHT
TZOFFSETFROM:-0500
TZOFFSETTO:-0400
TZNAME:EDT
DTSTART:20220313T070000
END:DAYLIGHT
BEGIN:STANDARD
TZOFFSETFROM:-0400
TZOFFSETTO:-0500
TZNAME:EST
DTSTART:20221106T060000
END:STANDARD
END:VTIMEZONE
BEGIN:VEVENT
DTSTART;TZID=America/New_York:20221114T100000
DTEND;TZID=America/New_York:20221114T130000
DTSTAMP:20260422T140034
CREATED:20221031T201657Z
LAST-MODIFIED:20221031T204457Z
UID:19305-1668420000-1668430800@s631138447.onlinehome.us
SUMMARY:Thanksgiving Drop & Go Food Drive
DESCRIPTION:Help spread the joy of Thanksgiving to your neighbors in need! The Betsy & Peter Fischer Food Pantry will be collecting donations of Kosher\, nonperishable Thanksgiving side dishes on Monday\, November 14 from 10am – 1pm. Most-needed items include: Mashed Potatoes\, Canned Yams\, Cranberry Sauce\, Canned String Beans\, Canned Peas\, Canned Corn\, Canned Pineapple\, Stuffing\, Pie Crust\, Applesauce\, Apple Juice\, and Cake Mix. \nThere will be collection containers outside the building for contactless drop-off of donations. For those planning to drop off large carloads of food\, please reach out to Deena Neuwirth in advance to schedule a drop off time: 856-477-1314 or dneuwirth@jfedsnj.org. \nJFCS cannot accept turkey donations this year. Please consider donating gift cards for our clients instead.
URL:http://s631138447.onlinehome.us/event/thanksgiving-drop-go-food-drive-3/
LOCATION:Rhona Fischer Family Assistance Building\, 6 East Miami Avenue\, Cherry Hill\, 08034\, United States
CATEGORIES:Family Assistance
ORGANIZER;CN="Deena%20Neuwirth":MAILTO:dneuwirth@jfedsnj.org
GEO:39.9182218;-75.0050936
X-APPLE-STRUCTURED-LOCATION;VALUE=URI;X-ADDRESS=Rhona Fischer Family Assistance Building 6 East Miami Avenue Cherry Hill 08034 United States;X-APPLE-RADIUS=500;X-TITLE=6 East Miami Avenue:geo:-75.0050936,39.9182218
END:VEVENT
END:VCALENDAR