BEGIN:VCALENDAR
VERSION:2.0
PRODID:-//JFCS of SNJ - ECPv6.0.3.1//NONSGML v1.0//EN
CALSCALE:GREGORIAN
METHOD:PUBLISH
X-WR-CALNAME:JFCS of SNJ
X-ORIGINAL-URL:http://s631138447.onlinehome.us
X-WR-CALDESC:Events for JFCS of SNJ
REFRESH-INTERVAL;VALUE=DURATION:PT1H
X-Robots-Tag:noindex
X-PUBLISHED-TTL:PT1H
BEGIN:VTIMEZONE
TZID:UTC
BEGIN:STANDARD
TZOFFSETFROM:+0000
TZOFFSETTO:+0000
TZNAME:UTC
DTSTART:20200101T000000
END:STANDARD
TZID:America/New_York
BEGIN:DAYLIGHT
TZOFFSETFROM:-0500
TZOFFSETTO:-0400
TZNAME:EDT
DTSTART:20200308T070000
END:DAYLIGHT
BEGIN:STANDARD
TZOFFSETFROM:-0400
TZOFFSETTO:-0500
TZNAME:EST
DTSTART:20201101T060000
END:STANDARD
END:VTIMEZONE
BEGIN:VEVENT
DTSTART;VALUE=DATE:20200907
DTEND;VALUE=DATE:20200908
DTSTAMP:20260422T105517
CREATED:20190801T214712Z
LAST-MODIFIED:20190801T214712Z
UID:14171-1599436800-1599523199@s631138447.onlinehome.us
SUMMARY:Labor Day
DESCRIPTION:JFCS offices closed in observance of Labor Day.
URL:http://s631138447.onlinehome.us/event/labor-day-2/
LOCATION:NJ
CATEGORIES:Holiday
END:VEVENT
BEGIN:VEVENT
DTSTART;TZID=America/New_York:20200910T103000
DTEND;TZID=America/New_York:20200910T113000
DTSTAMP:20260422T105517
CREATED:20190801T193847Z
LAST-MODIFIED:20210504T200930Z
UID:14162-1599733800-1599737400@s631138447.onlinehome.us
SUMMARY:Cafe Connection - A Memory Cafe
DESCRIPTION:A monthly social gathering for older adults affected by memory challenges and their care partners. Please join us for engaging conversation\, along with a creative experience with a guest artist. All events will be held virtually until further notice. To learn more or to request the Zoom meeting link\, contact Reva Farenback-Brateman at rfbrateman@jfedsnj.org or 856-424-1333 ext. 1184. \nCafe Connection is a collaboration of JFCS\, JSHHS\, and the Katz JCC\, with grant funding by the Camden County Board of Commissioners.\nGuest artist sponsored by Arden Courts of Cherry Hill.
URL:http://s631138447.onlinehome.us/event/cafe-connection-a-memory-cafe-9/2020-09-10/
LOCATION:NJ
CATEGORIES:Seniors,Support Group
ORGANIZER;CN="Reva%20Farenback-Brateman":MAILTO:rfbrateman@jfedsnj.org
END:VEVENT
END:VCALENDAR