BEGIN:VCALENDAR
VERSION:2.0
PRODID:-//JFCS of SNJ - ECPv6.0.3.1//NONSGML v1.0//EN
CALSCALE:GREGORIAN
METHOD:PUBLISH
X-ORIGINAL-URL:http://s631138447.onlinehome.us
X-WR-CALDESC:Events for JFCS of SNJ
REFRESH-INTERVAL;VALUE=DURATION:PT1H
X-Robots-Tag:noindex
X-PUBLISHED-TTL:PT1H
BEGIN:VTIMEZONE
TZID:UTC
BEGIN:STANDARD
TZOFFSETFROM:+0000
TZOFFSETTO:+0000
TZNAME:UTC
DTSTART:20200101T000000
END:STANDARD
END:VTIMEZONE
BEGIN:VEVENT
DTSTART;VALUE=DATE:20200415
DTEND;VALUE=DATE:20200417
DTSTAMP:20260425T230710
CREATED:20190801T191854Z
LAST-MODIFIED:20190801T191854Z
UID:14148-1586908800-1587081599@s631138447.onlinehome.us
SUMMARY:Passover
DESCRIPTION:JFCS offices closed in observance of the last two days of Passover.
URL:http://s631138447.onlinehome.us/event/passover-2/
LOCATION:JFCS Main Office\, 1301 Springdale Rd Ste 150\, Cherry Hill\, NJ\, 08003\, United States
CATEGORIES:Holiday
GEO:39.8823539;-74.968004
X-APPLE-STRUCTURED-LOCATION;VALUE=URI;X-ADDRESS=JFCS Main Office 1301 Springdale Rd Ste 150 Cherry Hill NJ 08003 United States;X-APPLE-RADIUS=500;X-TITLE=1301 Springdale Rd Ste 150:geo:-74.968004,39.8823539
END:VEVENT
BEGIN:VEVENT
DTSTART;TZID=UTC:20200417T130000
DTEND;TZID=UTC:20200417T143000
DTSTAMP:20260425T230710
CREATED:20200220T233323Z
LAST-MODIFIED:20200414T180911Z
UID:15176-1587128400-1587133800@s631138447.onlinehome.us
SUMMARY:LGBT Aging with Pride
DESCRIPTION:THIS MEETING WILL BE HELD REMOTELY VIA ZOOM. To request the Zoom meeting link\, please email Reva Farenback-Brateman: rfbrateman@jfedsnj.org. \nThe only group of its kind in South Jersey\, this monthly program offers a welcoming atmosphere for LGBT older adults to share their experiences\, build relationships\, and discuss issues like discrimination and social isolation. Sponsored by Timothy Rice Estate and Elder Law. To learn more or to RSVP\, please contact Reva Farenback-Brateman at 856-424-1333 ext. 1184 or rfbrateman@jfedsnj.org
URL:http://s631138447.onlinehome.us/event/lgbt-aging-with-pride-21/
LOCATION:Katz JCC\, 1301 Springdale Road\, Cherry Hill\, NJ\, 08003\, United States
CATEGORIES:LGBTQ+
ORGANIZER;CN="Reva%20Farenback-Brateman":MAILTO:rfbrateman@jfedsnj.org
GEO:39.8823539;-74.968004
X-APPLE-STRUCTURED-LOCATION;VALUE=URI;X-ADDRESS=Katz JCC 1301 Springdale Road Cherry Hill NJ 08003 United States;X-APPLE-RADIUS=500;X-TITLE=1301 Springdale Road:geo:-74.968004,39.8823539
END:VEVENT
END:VCALENDAR