BEGIN:VCALENDAR
VERSION:2.0
PRODID:-//JFCS of SNJ - ECPv6.0.3.1//NONSGML v1.0//EN
CALSCALE:GREGORIAN
METHOD:PUBLISH
X-WR-CALNAME:JFCS of SNJ
X-ORIGINAL-URL:http://s631138447.onlinehome.us
X-WR-CALDESC:Events for JFCS of SNJ
REFRESH-INTERVAL;VALUE=DURATION:PT1H
X-Robots-Tag:noindex
X-PUBLISHED-TTL:PT1H
BEGIN:VTIMEZONE
TZID:UTC
BEGIN:STANDARD
TZOFFSETFROM:+0000
TZOFFSETTO:+0000
TZNAME:UTC
DTSTART:20200101T000000
END:STANDARD
END:VTIMEZONE
BEGIN:VEVENT
DTSTART;TZID=UTC:20200119T093000
DTEND;TZID=UTC:20200119T113000
DTSTAMP:20260423T165535
CREATED:20191206T222843Z
LAST-MODIFIED:20191206T222843Z
UID:14668-1579426200-1579433400@s631138447.onlinehome.us
SUMMARY:Community Mitzvah Day
DESCRIPTION:Open to the Community – All Ages Welcome! \n \nJoin together with hundreds of community members to create meaningful projects that will benefit our neighbors in need. We will be making 1\,000 Chemo Comfort Bags (bags filled with snacks and supplies along with “get well” cards) for patients at MD Anderson Cancer Center at Cooper. The day will also include a blood drive\, free cancer screenings by Cooper physicians\, and an opportunity to sign up for the Gift of Life Bone Marrow Registry. Snacks will be provided. Please note that advance registration is required for both the blood drive and the cancer screenings. The cost of admission is one non-perishable kosher food item per person to benefit clients of the JFCS Betsy & Peter Fischer Food Pantries. We hope to see you at this wonderful event!\n 
URL:http://s631138447.onlinehome.us/event/community-mitzvah-day/
LOCATION:Katz JCC\, 1301 Springdale Road\, Cherry Hill\, NJ\, 08003\, United States
CATEGORIES:Volunteer Opportunity
ORGANIZER;CN="Sherri%20Jonas":MAILTO:sjonas@jfedsnj.org
GEO:39.8823539;-74.968004
X-APPLE-STRUCTURED-LOCATION;VALUE=URI;X-ADDRESS=Katz JCC 1301 Springdale Road Cherry Hill NJ 08003 United States;X-APPLE-RADIUS=500;X-TITLE=1301 Springdale Road:geo:-74.968004,39.8823539
END:VEVENT
BEGIN:VEVENT
DTSTART;TZID=UTC:20200122T180000
DTEND;TZID=UTC:20200122T193000
DTSTAMP:20260423T165535
CREATED:20190923T204421Z
LAST-MODIFIED:20200106T181832Z
UID:14368-1579716000-1579721400@s631138447.onlinehome.us
SUMMARY:Annual Special Needs Art Gallery Reception
DESCRIPTION:The Annual Special Needs Art Gallery Reception will feature original artwork by members of the JCC ACHaD and JFCS TOPS Special Needs Programs. For more information contact Nina Staiman at nstaiman@jfedsnj.org.
URL:http://s631138447.onlinehome.us/event/annual-special-needs-art-gallery-reception/
LOCATION:Katz JCC\, 1301 Springdale Road\, Cherry Hill\, NJ\, 08003\, United States
GEO:39.8823539;-74.968004
X-APPLE-STRUCTURED-LOCATION;VALUE=URI;X-ADDRESS=Katz JCC 1301 Springdale Road Cherry Hill NJ 08003 United States;X-APPLE-RADIUS=500;X-TITLE=1301 Springdale Road:geo:-74.968004,39.8823539
END:VEVENT
BEGIN:VEVENT
DTSTART;TZID=UTC:20200123T133000
DTEND;TZID=UTC:20200123T150000
DTSTAMP:20260423T165535
CREATED:20191227T194644Z
LAST-MODIFIED:20191227T194644Z
UID:14687-1579786200-1579791600@s631138447.onlinehome.us
SUMMARY:Seeing It Through Together
DESCRIPTION:The JFCS low vision support and education group provides an opportunity for older adults to speak with others living with low vision\, hear from experts in the field\, share common concerns and stories\, and find solutions to vision-related difficulties. \nFor more information or to register\, please contact Mindy Elkins\, MSW\, LSW at (856) 424-1333 or melkins@jfedsnj.org.
URL:http://s631138447.onlinehome.us/event/seeing-it-through-together-7/
LOCATION:JFCS Main Office\, 1301 Springdale Rd Ste 150\, Cherry Hill\, NJ\, 08003\, United States
CATEGORIES:Support Group
GEO:39.8823539;-74.968004
X-APPLE-STRUCTURED-LOCATION;VALUE=URI;X-ADDRESS=JFCS Main Office 1301 Springdale Rd Ste 150 Cherry Hill NJ 08003 United States;X-APPLE-RADIUS=500;X-TITLE=1301 Springdale Rd Ste 150:geo:-74.968004,39.8823539
END:VEVENT
END:VCALENDAR