BEGIN:VCALENDAR
VERSION:2.0
PRODID:-//JFCS of SNJ - ECPv6.0.3.1//NONSGML v1.0//EN
CALSCALE:GREGORIAN
METHOD:PUBLISH
X-WR-CALNAME:JFCS of SNJ
X-ORIGINAL-URL:http://s631138447.onlinehome.us
X-WR-CALDESC:Events for JFCS of SNJ
REFRESH-INTERVAL;VALUE=DURATION:PT1H
X-Robots-Tag:noindex
X-PUBLISHED-TTL:PT1H
BEGIN:VTIMEZONE
TZID:UTC
BEGIN:STANDARD
TZOFFSETFROM:+0000
TZOFFSETTO:+0000
TZNAME:UTC
DTSTART:20180101T000000
END:STANDARD
END:VTIMEZONE
BEGIN:VEVENT
DTSTART;TZID=UTC:20181120T093000
DTEND;TZID=UTC:20181120T120000
DTSTAMP:20260422T072323
CREATED:20181011T195632Z
LAST-MODIFIED:20181016T180258Z
UID:11358-1542706200-1542715200@s631138447.onlinehome.us
SUMMARY:Thanksgiving Meal Delivery
DESCRIPTION:Mark you calendars! \nVolunteers needed to deliver meals for seniors and those who are homebound for the Thanksgiving Holiday.  \nFor more information\, please contact Randi Brown\, Volunteer Program Coordinator at (856)424-1333\, ext. 1541. \n \n  \n 
URL:http://s631138447.onlinehome.us/event/thanksgiving-meal-delivery/
LOCATION:Temple Beth Sholom\, 1901 Kresson Rd\,\, Cherry Hill \, NJ\, 08003\, United States
CATEGORIES:Volunteer Opportunity
GEO:39.8754983;-74.9544154
X-APPLE-STRUCTURED-LOCATION;VALUE=URI;X-ADDRESS=Temple Beth Sholom 1901 Kresson Rd Cherry Hill  NJ 08003 United States;X-APPLE-RADIUS=500;X-TITLE=1901 Kresson Rd\,:geo:-74.9544154,39.8754983
END:VEVENT
END:VCALENDAR