BEGIN:VCALENDAR
VERSION:2.0
PRODID:-//JFCS of SNJ - ECPv6.0.3.1//NONSGML v1.0//EN
CALSCALE:GREGORIAN
METHOD:PUBLISH
X-WR-CALNAME:JFCS of SNJ
X-ORIGINAL-URL:http://s631138447.onlinehome.us
X-WR-CALDESC:Events for JFCS of SNJ
REFRESH-INTERVAL;VALUE=DURATION:PT1H
X-Robots-Tag:noindex
X-PUBLISHED-TTL:PT1H
BEGIN:VTIMEZONE
TZID:UTC
BEGIN:STANDARD
TZOFFSETFROM:+0000
TZOFFSETTO:+0000
TZNAME:UTC
DTSTART:20190101T000000
END:STANDARD
END:VTIMEZONE
BEGIN:VEVENT
DTSTART;TZID=UTC:20191017T130000
DTEND;TZID=UTC:20191017T143000
DTSTAMP:20260421T094522
CREATED:20190408T190918Z
LAST-MODIFIED:20190408T191139Z
UID:13431-1571317200-1571322600@s631138447.onlinehome.us
SUMMARY:Seeing It Through Together
DESCRIPTION:JFCS presents a Low Vision Education & Support Group \n\nSpeak with others living with low vision\nHear from experts in the field\nShare common concerns and stories\nFind solutions to your vision-related difficulties\n\nHeld at the JFCS Main Office: 1301 Springdale Road\, Suite 150 \nFor more information or to register\, please contact Mindy Elkins\, MSW\, LSW at (856) 424-1333 or melkins@jfedsnj.org. \nSponsored by Bratton Estate and Elder Care Attorneys
URL:http://s631138447.onlinehome.us/event/seeing-it-through-together-4/
LOCATION:JFCS Main Office\, 1301 Springdale Rd Ste 150\, Cherry Hill\, NJ\, 08003\, United States
CATEGORIES:Support Group
GEO:39.8823539;-74.968004
X-APPLE-STRUCTURED-LOCATION;VALUE=URI;X-ADDRESS=JFCS Main Office 1301 Springdale Rd Ste 150 Cherry Hill NJ 08003 United States;X-APPLE-RADIUS=500;X-TITLE=1301 Springdale Rd Ste 150:geo:-74.968004,39.8823539
END:VEVENT
END:VCALENDAR