BEGIN:VCALENDAR
VERSION:2.0
PRODID:-//JFCS of SNJ - ECPv6.0.3.1//NONSGML v1.0//EN
CALSCALE:GREGORIAN
METHOD:PUBLISH
X-ORIGINAL-URL:http://s631138447.onlinehome.us
X-WR-CALDESC:Events for JFCS of SNJ
REFRESH-INTERVAL;VALUE=DURATION:PT1H
X-Robots-Tag:noindex
X-PUBLISHED-TTL:PT1H
BEGIN:VTIMEZONE
TZID:UTC
BEGIN:STANDARD
TZOFFSETFROM:+0000
TZOFFSETTO:+0000
TZNAME:UTC
DTSTART:20190101T000000
END:STANDARD
END:VTIMEZONE
BEGIN:VEVENT
DTSTART;TZID=UTC:20190912T100000
DTEND;TZID=UTC:20190912T120000
DTSTAMP:20260419T112956
CREATED:20180820T175551Z
LAST-MODIFIED:20190709T020529Z
UID:10759-1568282400-1568289600@s631138447.onlinehome.us
SUMMARY:Cafe’ Connection- A Memory Cafe’
DESCRIPTION:A monthly social gathering for older adults affected by memory challenges and their care partners. Please join us for coffee\, conversation\, a creative experience with a guest artist\, and learn about community resources. A lunch and passes to the Movement and Motivation wellness class at Katz JCC will be available to attendees for later that day. To register\, contact Reva Farenback-Brateman at 856-424-1333 ext. 1184. \nGrant funding is provided by The Camden County Board of Freeholders. Cafe Connection is a collaboration of JFCS\, JSHHS\, and the Katz JCC.
URL:http://s631138447.onlinehome.us/event/cafe-connection-memory-cafe-34/
LOCATION:NJ
CATEGORIES:Support Group
END:VEVENT
END:VCALENDAR